Workbook

Sheet DANN K-8
A1: DANN K-8 | B1: 26-27 | C1: 27-28 | D1: 28-29 | E1: 29-30 | F1: 30-31 | G1: 31-32 | H1: 32-33
A2: Statewide Base (w/ District Adj) | B2: 9486 | C2: 9723 | D2: =C2*1.025 -> 9966.075 | E2: =D2*1.025 -> 10215.227 | F2: =E2*1.025 -> 10470.608 | G2: =F2*1.025 -> 10732.373 | H2: =G2*1.025 -> 11000.682
A3: Total Students (FTEs) | B3: =SUM(B4:B16) -> 990 | C3: =SUM(C4:C16) -> 990 | D3: =SUM(D4:D16) -> 990 | E3: =SUM(E4:E16) -> 990 | F3: =SUM(F4:F16) -> 990 | G3: =SUM(G4:G16) -> 990 | H3: =SUM(H4:H16) -> 990
A4: Kinder | B4: 100 | C4: 100 | D4: 100 | E4: 100 | F4: 100 | G4: 100 | H4: 100
A5: 1st Grade | B5: 104 | C5: 104 | D5: 104 | E5: 104 | F5: 104 | G5: 104 | H5: 104
A6: 2nd Grade | B6: 104 | C6: 104 | D6: 104 | E6: 104 | F6: 104 | G6: 104 | H6: 104
A7: 3rd Grade | B7: 104 | C7: 104 | D7: 104 | E7: 104 | F7: 104 | G7: 104 | H7: 104
A8: 4th Grade | B8: 104 | C8: 104 | D8: 104 | E8: 104 | F8: 104 | G8: 104 | H8: 104
A9: 5th Grade | B9: 108 | C9: 108 | D9: 108 | E9: 108 | F9: 108 | G9: 108 | H9: 108
A10: 6th Grade | B10: 123 | C10: 123 | D10: 123 | E10: 123 | F10: 123 | G10: 123 | H10: 123
A11: 7th Grade | B11: 123 | C11: 123 | D11: 123 | E11: 123 | F11: 123 | G11: 123 | H11: 123
A12: 8th Grade | B12: 120 | C12: 120 | D12: 120 | E12: 120 | F12: 120 | G12: 120 | H12: 120
A13: 9th Grade | B13: 0 | C13: 0 | D13: 0 | E13: 0 | F13: 0 | G13: 0 | H13: 0
A14: 10th Grade | B14: 0 | C14: 0 | D14: 0 | E14: 0 | F14: 0 | G14: 0 | H14: 0
A15: 11th Grade | B15: 0 | C15: 0 | D15: 0 | E15: 0 | F15: 0 | G15: 0 | H15: 0
A16: 12th Grade | B16: 0 | C16: 0 | D16: 0 | E16: 0 | F16: 0 | G16: 0 | H16: 0
A17: Total Students (FTEs) | B17: =SUM(B4:B16) -> 990 | C17: =SUM(C4:C16) -> 990 | D17: =SUM(D4:D16) -> 990 | E17: =SUM(E4:E16) -> 990 | F17: =SUM(F4:F16) -> 990 | G17: =SUM(G4:G16) -> 990 | H17: =SUM(H4:H16) -> 990
A20: Funding Based off of Prior Year Numbers | B20: =B1 -> 26-27 | C20: =C1 -> 27-28 | D20: =D1 -> 28-29 | E20: =E1 -> 29-30 | F20: =F1 -> 30-31 | G20: =G1 -> 31-32 | H20: =H1 -> 32-33
A21: SPED Count | B21: 100 | C21: 100 | D21: 100 | E21: 100 | F21: 100 | G21: 100 | H21: 100
A22: EL Count | B22: 11 | C22: 11 | D22: 11 | E22: 11 | F22: 11 | G22: 11 | H22: 11
A23: GATE Count | B23: 86 | C23: 86 | D23: 86 | E23: 86 | F23: 86 | G23: 86 | H23: 86
A24: At-Risk | B24: 0 | C24: 0 | D24: 0 | E24: 0 | F24: 0 | G24: 0 | H24: 0
A25: FRL % | B25: 0.076 | C25: 0.076 | D25: 0.076 | E25: 0.076 | F25: 0.076 | G25: 0.076 | H25: 0.076
A26: Teaching Staff | B26: =B1 -> 26-27 | C26: =C1 -> 27-28 | D26: =D1 -> 28-29 | E26: =E1 -> 29-30 | F26: =F1 -> 30-31 | G26: =G1 -> 31-32 | H26: =H1 -> 32-33
A27: Classroom Teachers | B27: 36 | C27: 36 | D27: 36 | E27: 36 | F27: 36 | G27: 36 | H27: 36
A28: SPED Teachers | B28: 3.5 | C28: 3.5 | D28: 3.5 | E28: 3.5 | F28: 3.5 | G28: 3.5 | H28: 3.5
A29: Art Teacher
A30: Music
A31: PE Teacher
A32: Technology (STEM)
A33: Spanish / Language
A34: Additional Elective Teachers | B34: 8 | C34: 8 | D34: 8 | E34: 8 | F34: 8 | G34: 8 | H34: 8
A35: Gate Teacher
A36: Total Teaching Staff | B36: =SUM(B27:B35) -> 47.5 | C36: =SUM(C27:C35) -> 47.5 | D36: =SUM(D27:D35) -> 47.5 | E36: =SUM(E27:E35) -> 47.5 | F36: =SUM(F27:F35) -> 47.5 | G36: =SUM(G27:G35) -> 47.5 | H36: =SUM(H27:H35) -> 47.5
A38: Admin & Support Staff | B38: =B1 -> 26-27 | C38: =C1 -> 27-28 | D38: =D1 -> 28-29 | E38: =E1 -> 29-30 | F38: =F1 -> 30-31 | G38: =G1 -> 31-32 | H38: =H1 -> 32-33
A39: Principal | B39: 1 | C39: 1 | D39: 1 | E39: 1 | F39: 1 | G39: 1 | H39: 1
A40: Assistant Principal | B40: 2 | C40: 2 | D40: 2 | E40: 2 | F40: 2 | G40: 2 | H40: 2
A41: Community Involvement/ELL Coordinator | B41: 0 | C41: 0 | D41: 0 | E41: 0 | F41: 0 | G41: 0 | H41: 0
A42: Dean | B42: 1 | C42: 1 | D42: 1 | E42: 1 | F42: 1 | G42: 1 | H42: 1
A43: Curriculum Coach | B43: 1 | C43: 1 | D43: 1 | E43: 1 | F43: 1 | G43: 1 | H43: 1
...

Sheet SCEN. K12 No Phasing+CSP
A1: DANN (NEW CAMPUS) | B1: 26-27 | C1: 27-28 | D1: 28-29 | E1: 29-30 | F1: 30-31 | G1: 31-32 | H1: 32-33
A2: Statewide Base (w/ District Adj) | B2: 9486 | C2: 9723 | D2: =C2*1.025 -> 9966.075 | E2: =D2*1.025 -> 10215.227 | F2: =E2*1.025 -> 10470.608 | G2: =F2*1.025 -> 10732.373 | H2: =G2*1.025 -> 11000.682
A3: Total Students (FTEs) | B3: =SUM(B4:B16) -> 0 | C3: =SUM(C4:C16) -> 0 | D3: =SUM(D4:D16) -> 884 | E3: =SUM(E4:E16) -> 1112 | F3: =SUM(F4:F16) -> 1370 | G3: =SUM(G4:G16) -> 1520 | H3: =SUM(H4:H16) -> 1570
A4: Kinder | D4: 100 | E4: 100 | F4: 100 | G4: 100 | H4: 100
A5: 1st Grade | D5: 104 | E5: 104 | F5: 104 | G5: 104 | H5: 104
A6: 2nd Grade | D6: 104 | E6: 104 | F6: 104 | G6: 104 | H6: 104
A7: 3rd Grade | D7: 104 | E7: 104 | F7: 104 | G7: 104 | H7: 104
A8: 4th Grade | D8: 0 | E8: 104 | F8: 104 | G8: 104 | H8: 104
A9: 5th Grade | D9: 0 | E9: 0 | F9: 108 | G9: 108 | H9: 108
A10: 6th Grade | D10: 124 | E10: 124 | F10: 124 | G10: 124 | H10: 124
A11: 7th Grade | D11: 124 | E11: 124 | F11: 124 | G11: 124 | H11: 124
A12: 8th Grade | D12: 124 | E12: 124 | F12: 124 | G12: 124 | H12: 124
A13: 9th Grade | D13: 100 | E13: 124 | F13: 150 | G13: 150 | H13: 150
A14: 10th Grade | D14: 0 | E14: 100 | F14: 124 | G14: 150 | H14: 150
A15: 11th Grade | D15: 0 | E15: 0 | F15: 100 | G15: 124 | H15: 150
A16: 12th Grade | D16: 0 | E16: 0 | F16: 0 | G16: 100 | H16: 124
A17: Total Students (FTEs) | B17: =SUM(B4:B16) -> 0 | C17: =SUM(C4:C16) -> 0 | D17: =SUM(D4:D16) -> 884 | E17: =SUM(E4:E16) -> 1112 | F17: =SUM(F4:F16) -> 1370 | G17: =SUM(G4:G16) -> 1520 | H17: =SUM(H4:H16) -> 1570
A20: Funding Based off of Prior Year Numbers | B20: =B1 -> 26-27 | C20: =C1 -> 27-28 | D20: =D1 -> 28-29 | E20: =E1 -> 29-30 | F20: =F1 -> 30-31 | G20: =G1 -> 31-32 | H20: =H1 -> 32-33
A21: SPED Count | E21: 132.6 | F21: 166.8 | G21: 205.5 | H21: 228
A22: EL Count | E22: 70.72 | F22: 88.96 | G22: 109.6 | H22: 121.6
A23: GATE Count | E23: 70.72 | F23: 88.96 | G23: 109.6 | H23: 121.6
A24: At-Risk | E24: 0 | F24: 0 | G24: 0 | H24: 0
A25: FRL % | D25: 0.1 | E25: 0.1 | F25: 0.1 | G25: 0.1 | H25: 0.1
A26: Teaching Staff | B26: =B1 -> 26-27 | C26: =C1 -> 27-28 | D26: =D1 -> 28-29 | E26: =E1 -> 29-30 | F26: =F1 -> 30-31 | G26: =G1 -> 31-32 | H26: =H1 -> 32-33
A27: Classroom Teachers | D27: 32 | E27: 41 | F27: 51 | G27: 53 | H27: 59
A28: SPED Teachers | D28: 4 | E28: 5 | F28: 6 | G28: 7 | H28: 8
A29: Art Teacher
A30: Music
A31: PE Teacher
A32: Technology (STEM)
A33: Spanish / Language
A34: Additional Elective Teachers | D34: 6 | E34: 8 | F34: 9 | G34: 10 | H34: 10
A35: Gate Teacher
A36: Total Teaching Staff | B36: =SUM(B27:B35) -> 0 | C36: =SUM(C27:C35) -> 0 | D36: =SUM(D27:D35) -> 42 | E36: =SUM(E27:E35) -> 54 | F36: =SUM(F27:F35) -> 66 | G36: =SUM(G27:G35) -> 70 | H36: =SUM(H27:H35) -> 77
A38: Admin & Support Staff | B38: =B1 -> 26-27 | C38: =C1 -> 27-28 | D38: =D1 -> 28-29 | E38: =E1 -> 29-30 | F38: =F1 -> 30-31 | G38: =G1 -> 31-32 | H38: =H1 -> 32-33
A39: Principal | D39: 1 | E39: 1 | F39: 1 | G39: 1 | H39: 1
A40: Assistant Principal | D40: 2 | E40: 2 | F40: 2 | G40: 3 | H40: 3
A41: Community Involvement/ELL Coordinator | D41: 1 | E41: 1 | F41: 1 | G41: 1 | H41: 1
A42: Dean | D42: 0 | E42: 0 | F42: 0 | G42: 0 | H42: 0
A43: Curriculum Coach | D43: 1 | E43: 1 | F43: 2 | G43: 2 | H43: 2
...

Sheet DANN - Systemwide
A1: DANN - Systemwide | B1: 26-27 | C1: 27-28 | D1: 28-29 | E1: 29-30 | F1: 30-31 | G1: 31-32 | H1: 32-33
A2: Statewide Base (w/ District Adj) | B2: 9486 | C2: 9723 | D2: =C2*1.025 -> 9966.075 | E2: =D2*1.025 -> 10215.227 | F2: =E2*1.025 -> 10470.608 | G2: =F2*1.025 -> 10732.373 | H2: =G2*1.025 -> 11000.682
A3: Total Students (FTEs) | B3: =SUM(B4:B16) -> 990 | C3: =SUM(C4:C16) -> 990 | D3: =SUM(D4:D16) -> 1874 | E3: =SUM(E4:E16) -> 2102 | F3: =SUM(F4:F16) -> 2360 | G3: =SUM(G4:G16) -> 2510 | H3: =SUM(H4:H16) -> 2560
A4: Kinder | B4: ='DANN K-8'!B4+'SCEN. K12 No Phasing+CSP'!B4 -> 100 | C4: ='DANN K-8'!C4+'SCEN. K12 No Phasing+CSP'!C4 -> 100 | D4: ='DANN K-8'!D4+'SCEN. K12 No Phasing+CSP'!D4 -> 200 | E4: ='DANN K-8'!E4+'SCEN. K12 No Phasing+CSP'!E4 -> 200 | F4: ='DANN K-8'!F4+'SCEN. K12 No Phasing+CSP'!F4 -> 200 | G4: ='DANN K-8'!G4+'SCEN. K12 No Phasing+CSP'!G4 -> 200 | H4: ='DANN K-8'!H4+'SCEN. K12 No Phasing+CSP'!H4 -> 200
A5: 1st Grade | B5: ='DANN K-8'!B5+'SCEN. K12 No Phasing+CSP'!B5 -> 104 | C5: ='DANN K-8'!C5+'SCEN. K12 No Phasing+CSP'!C5 -> 104 | D5: ='DANN K-8'!D5+'SCEN. K12 No Phasing+CSP'!D5 -> 208 | E5: ='DANN K-8'!E5+'SCEN. K12 No Phasing+CSP'!E5 -> 208 | F5: ='DANN K-8'!F5+'SCEN. K12 No Phasing+CSP'!F5 -> 208 | G5: ='DANN K-8'!G5+'SCEN. K12 No Phasing+CSP'!G5 -> 208 | H5: ='DANN K-8'!H5+'SCEN. K12 No Phasing+CSP'!H5 -> 208
A6: 2nd Grade | B6: ='DANN K-8'!B6+'SCEN. K12 No Phasing+CSP'!B6 -> 104 | C6: ='DANN K-8'!C6+'SCEN. K12 No Phasing+CSP'!C6 -> 104 | D6: ='DANN K-8'!D6+'SCEN. K12 No Phasing+CSP'!D6 -> 208 | E6: ='DANN K-8'!E6+'SCEN. K12 No Phasing+CSP'!E6 -> 208 | F6: ='DANN K-8'!F6+'SCEN. K12 No Phasing+CSP'!F6 -> 208 | G6: ='DANN K-8'!G6+'SCEN. K12 No Phasing+CSP'!G6 -> 208 | H6: ='DANN K-8'!H6+'SCEN. K12 No Phasing+CSP'!H6 -> 208
A7: 3rd Grade | B7: ='DANN K-8'!B7+'SCEN. K12 No Phasing+CSP'!B7 -> 104 | C7: ='DANN K-8'!C7+'SCEN. K12 No Phasing+CSP'!C7 -> 104 | D7: ='DANN K-8'!D7+'SCEN. K12 No Phasing+CSP'!D7 -> 208 | E7: ='DANN K-8'!E7+'SCEN. K12 No Phasing+CSP'!E7 -> 208 | F7: ='DANN K-8'!F7+'SCEN. K12 No Phasing+CSP'!F7 -> 208 | G7: ='DANN K-8'!G7+'SCEN. K12 No Phasing+CSP'!G7 -> 208 | H7: ='DANN K-8'!H7+'SCEN. K12 No Phasing+CSP'!H7 -> 208
A8: 4th Grade | B8: ='DANN K-8'!B8+'SCEN. K12 No Phasing+CSP'!B8 -> 104 | C8: ='DANN K-8'!C8+'SCEN. K12 No Phasing+CSP'!C8 -> 104 | D8: ='DANN K-8'!D8+'SCEN. K12 No Phasing+CSP'!D8 -> 104 | E8: ='DANN K-8'!E8+'SCEN. K12 No Phasing+CSP'!E8 -> 208 | F8: ='DANN K-8'!F8+'SCEN. K12 No Phasing+CSP'!F8 -> 208 | G8: ='DANN K-8'!G8+'SCEN. K12 No Phasing+CSP'!G8 -> 208 | H8: ='DANN K-8'!H8+'SCEN. K12 No Phasing+CSP'!H8 -> 208
A9: 5th Grade | B9: ='DANN K-8'!B9+'SCEN. K12 No Phasing+CSP'!B9 -> 108 | C9: ='DANN K-8'!C9+'SCEN. K12 No Phasing+CSP'!C9 -> 108 | D9: ='DANN K-8'!D9+'SCEN. K12 No Phasing+CSP'!D9 -> 108 | E9: ='DANN K-8'!E9+'SCEN. K12 No Phasing+CSP'!E9 -> 108 | F9: ='DANN K-8'!F9+'SCEN. K12 No Phasing+CSP'!F9 -> 216 | G9: ='DANN K-8'!G9+'SCEN. K12 No Phasing+CSP'!G9 -> 216 | H9: ='DANN K-8'!H9+'SCEN. K12 No Phasing+CSP'!H9 -> 216
A10: 6th Grade | B10: ='DANN K-8'!B10+'SCEN. K12 No Phasing+CSP'!B10 -> 123 | C10: ='DANN K-8'!C10+'SCEN. K12 No Phasing+CSP'!C10 -> 123 | D10: ='DANN K-8'!D10+'SCEN. K12 No Phasing+CSP'!D10 -> 247 | E10: ='DANN K-8'!E10+'SCEN. K12 No Phasing+CSP'!E10 -> 247 | F10: ='DANN K-8'!F10+'SCEN. K12 No Phasing+CSP'!F10 -> 247 | G10: ='DANN K-8'!G10+'SCEN. K12 No Phasing+CSP'!G10 -> 247 | H10: ='DANN K-8'!H10+'SCEN. K12 No Phasing+CSP'!H10 -> 247
A11: 7th Grade | B11: ='DANN K-8'!B11+'SCEN. K12 No Phasing+CSP'!B11 -> 123 | C11: ='DANN K-8'!C11+'SCEN. K12 No Phasing+CSP'!C11 -> 123 | D11: ='DANN K-8'!D11+'SCEN. K12 No Phasing+CSP'!D11 -> 247 | E11: ='DANN K-8'!E11+'SCEN. K12 No Phasing+CSP'!E11 -> 247 | F11: ='DANN K-8'!F11+'SCEN. K12 No Phasing+CSP'!F11 -> 247 | G11: ='DANN K-8'!G11+'SCEN. K12 No Phasing+CSP'!G11 -> 247 | H11: ='DANN K-8'!H11+'SCEN. K12 No Phasing+CSP'!H11 -> 247
A12: 8th Grade | B12: ='DANN K-8'!B12+'SCEN. K12 No Phasing+CSP'!B12 -> 120 | C12: ='DANN K-8'!C12+'SCEN. K12 No Phasing+CSP'!C12 -> 120 | D12: ='DANN K-8'!D12+'SCEN. K12 No Phasing+CSP'!D12 -> 244 | E12: ='DANN K-8'!E12+'SCEN. K12 No Phasing+CSP'!E12 -> 244 | F12: ='DANN K-8'!F12+'SCEN. K12 No Phasing+CSP'!F12 -> 244 | G12: ='DANN K-8'!G12+'SCEN. K12 No Phasing+CSP'!G12 -> 244 | H12: ='DANN K-8'!H12+'SCEN. K12 No Phasing+CSP'!H12 -> 244
A13: 9th Grade | B13: ='DANN K-8'!B13+'SCEN. K12 No Phasing+CSP'!B13 -> 0 | C13: ='DANN K-8'!C13+'SCEN. K12 No Phasing+CSP'!C13 -> 0 | D13: ='DANN K-8'!D13+'SCEN. K12 No Phasing+CSP'!D13 -> 100 | E13: ='DANN K-8'!E13+'SCEN. K12 No Phasing+CSP'!E13 -> 124 | F13: ='DANN K-8'!F13+'SCEN. K12 No Phasing+CSP'!F13 -> 150 | G13: ='DANN K-8'!G13+'SCEN. K12 No Phasing+CSP'!G13 -> 150 | H13: ='DANN K-8'!H13+'SCEN. K12 No Phasing+CSP'!H13 -> 150
A14: 10th Grade | B14: ='DANN K-8'!B14+'SCEN. K12 No Phasing+CSP'!B14 -> 0 | C14: ='DANN K-8'!C14+'SCEN. K12 No Phasing+CSP'!C14 -> 0 | D14: ='DANN K-8'!D14+'SCEN. K12 No Phasing+CSP'!D14 -> 0 | E14: ='DANN K-8'!E14+'SCEN. K12 No Phasing+CSP'!E14 -> 100 | F14: ='DANN K-8'!F14+'SCEN. K12 No Phasing+CSP'!F14 -> 124 | G14: ='DANN K-8'!G14+'SCEN. K12 No Phasing+CSP'!G14 -> 150 | H14: ='DANN K-8'!H14+'SCEN. K12 No Phasing+CSP'!H14 -> 150
A15: 11th Grade | B15: ='DANN K-8'!B15+'SCEN. K12 No Phasing+CSP'!B15 -> 0 | C15: ='DANN K-8'!C15+'SCEN. K12 No Phasing+CSP'!C15 -> 0 | D15: ='DANN K-8'!D15+'SCEN. K12 No Phasing+CSP'!D15 -> 0 | E15: ='DANN K-8'!E15+'SCEN. K12 No Phasing+CSP'!E15 -> 0 | F15: ='DANN K-8'!F15+'SCEN. K12 No Phasing+CSP'!F15 -> 100 | G15: ='DANN K-8'!G15+'SCEN. K12 No Phasing+CSP'!G15 -> 124 | H15: ='DANN K-8'!H15+'SCEN. K12 No Phasing+CSP'!H15 -> 150
A16: 12th Grade | B16: ='DANN K-8'!B16+'SCEN. K12 No Phasing+CSP'!B16 -> 0 | C16: ='DANN K-8'!C16+'SCEN. K12 No Phasing+CSP'!C16 -> 0 | D16: ='DANN K-8'!D16+'SCEN. K12 No Phasing+CSP'!D16 -> 0 | E16: ='DANN K-8'!E16+'SCEN. K12 No Phasing+CSP'!E16 -> 0 | F16: ='DANN K-8'!F16+'SCEN. K12 No Phasing+CSP'!F16 -> 0 | G16: ='DANN K-8'!G16+'SCEN. K12 No Phasing+CSP'!G16 -> 100 | H16: ='DANN K-8'!H16+'SCEN. K12 No Phasing+CSP'!H16 -> 124
A17: Total Students (FTEs) | B17: =SUM(B4:B16) -> 990 | C17: =SUM(C4:C16) -> 990 | D17: =SUM(D4:D16) -> 1874 | E17: =SUM(E4:E16) -> 2102 | F17: =SUM(F4:F16) -> 2360 | G17: =SUM(G4:G16) -> 2510 | H17: =SUM(H4:H16) -> 2560
A20: Funding Based off of Prior Year Numbers | B20: =B1 -> 26-27 | C20: =C1 -> 27-28 | D20: =D1 -> 28-29 | E20: =E1 -> 29-30 | F20: =F1 -> 30-31 | G20: =G1 -> 31-32 | H20: =H1 -> 32-33
A21: SPED Count | B21: ='DANN K-8'!B21+'SCEN. K12 No Phasing+CSP'!B21 -> 100 | C21: ='DANN K-8'!C21+'SCEN. K12 No Phasing+CSP'!C21 -> 100 | D21: ='DANN K-8'!D21+'SCEN. K12 No Phasing+CSP'!D21 -> 100 | E21: ='DANN K-8'!E21+'SCEN. K12 No Phasing+CSP'!E21 -> 232.6 | F21: ='DANN K-8'!F21+'SCEN. K12 No Phasing+CSP'!F21 -> 266.8 | G21: ='DANN K-8'!G21+'SCEN. K12 No Phasing+CSP'!G21 -> 305.5 | H21: ='DANN K-8'!H21+'SCEN. K12 No Phasing+CSP'!H21 -> 328
A22: EL Count | B22: ='DANN K-8'!B22+'SCEN. K12 No Phasing+CSP'!B22 -> 11 | C22: ='DANN K-8'!C22+'SCEN. K12 No Phasing+CSP'!C22 -> 11 | D22: ='DANN K-8'!D22+'SCEN. K12 No Phasing+CSP'!D22 -> 11 | E22: ='DANN K-8'!E22+'SCEN. K12 No Phasing+CSP'!E22 -> 81.72 | F22: ='DANN K-8'!F22+'SCEN. K12 No Phasing+CSP'!F22 -> 99.96 | G22: ='DANN K-8'!G22+'SCEN. K12 No Phasing+CSP'!G22 -> 120.6 | H22: ='DANN K-8'!H22+'SCEN. K12 No Phasing+CSP'!H22 -> 132.6
A23: GATE Count | B23: ='DANN K-8'!B23+'SCEN. K12 No Phasing+CSP'!B23 -> 86 | C23: ='DANN K-8'!C23+'SCEN. K12 No Phasing+CSP'!C23 -> 86 | D23: ='DANN K-8'!D23+'SCEN. K12 No Phasing+CSP'!D23 -> 86 | E23: ='DANN K-8'!E23+'SCEN. K12 No Phasing+CSP'!E23 -> 156.72 | F23: ='DANN K-8'!F23+'SCEN. K12 No Phasing+CSP'!F23 -> 174.96 | G23: ='DANN K-8'!G23+'SCEN. K12 No Phasing+CSP'!G23 -> 195.6 | H23: ='DANN K-8'!H23+'SCEN. K12 No Phasing+CSP'!H23 -> 207.6
A24: At-Risk | B24: ='DANN K-8'!B24+'SCEN. K12 No Phasing+CSP'!B24 -> 0 | C24: ='DANN K-8'!C24+'SCEN. K12 No Phasing+CSP'!C24 -> 0 | D24: ='DANN K-8'!D24+'SCEN. K12 No Phasing+CSP'!D24 -> 0 | E24: ='DANN K-8'!E24+'SCEN. K12 No Phasing+CSP'!E24 -> 0 | F24: ='DANN K-8'!F24+'SCEN. K12 No Phasing+CSP'!F24 -> 0 | G24: ='DANN K-8'!G24+'SCEN. K12 No Phasing+CSP'!G24 -> 0 | H24: ='DANN K-8'!H24+'SCEN. K12 No Phasing+CSP'!H24 -> 0
A25: FRL % | B25: =AVERAGE('DANN K-8'!B25,'SCEN. K12 No Phasing+CSP'!B25) -> 0.076 | C25: =AVERAGE('DANN K-8'!C25,'SCEN. K12 No Phasing+CSP'!C25) -> 0.076 | D25: =AVERAGE('DANN K-8'!D25,'SCEN. K12 No Phasing+CSP'!D25) -> 0.088 | E25: =AVERAGE('DANN K-8'!E25,'SCEN. K12 No Phasing+CSP'!E25) -> 0.088 | F25: =AVERAGE('DANN K-8'!F25,'SCEN. K12 No Phasing+CSP'!F25) -> 0.088 | G25: =AVERAGE('DANN K-8'!G25,'SCEN. K12 No Phasing+CSP'!G25) -> 0.088 | H25: =AVERAGE('DANN K-8'!H25,'SCEN. K12 No Phasing+CSP'!H25) -> 0.088
A26: Teaching Staff | B26: =B1 -> 26-27 | C26: =C1 -> 27-28 | D26: =D1 -> 28-29 | E26: =E1 -> 29-30 | F26: =F1 -> 30-31 | G26: =G1 -> 31-32 | H26: =H1 -> 32-33
A27: Classroom Teachers | B27: ='DANN K-8'!B27+'SCEN. K12 No Phasing+CSP'!B27 -> 36 | C27: ='DANN K-8'!C27+'SCEN. K12 No Phasing+CSP'!C27 -> 36 | D27: ='DANN K-8'!D27+'SCEN. K12 No Phasing+CSP'!D27 -> 68 | E27: ='DANN K-8'!E27+'SCEN. K12 No Phasing+CSP'!E27 -> 77 | F27: ='DANN K-8'!F27+'SCEN. K12 No Phasing+CSP'!F27 -> 87 | G27: ='DANN K-8'!G27+'SCEN. K12 No Phasing+CSP'!G27 -> 89 | H27: ='DANN K-8'!H27+'SCEN. K12 No Phasing+CSP'!H27 -> 95
A28: SPED Teachers | B28: ='DANN K-8'!B28+'SCEN. K12 No Phasing+CSP'!B28 -> 3.5 | C28: ='DANN K-8'!C28+'SCEN. K12 No Phasing+CSP'!C28 -> 3.5 | D28: ='DANN K-8'!D28+'SCEN. K12 No Phasing+CSP'!D28 -> 7.5 | E28: ='DANN K-8'!E28+'SCEN. K12 No Phasing+CSP'!E28 -> 8.5 | F28: ='DANN K-8'!F28+'SCEN. K12 No Phasing+CSP'!F28 -> 9.5 | G28: ='DANN K-8'!G28+'SCEN. K12 No Phasing+CSP'!G28 -> 10.5 | H28: ='DANN K-8'!H28+'SCEN. K12 No Phasing+CSP'!H28 -> 11.5
A29: Art Teacher | B29: ='DANN K-8'!B29+'SCEN. K12 No Phasing+CSP'!B29 -> 0 | C29: ='DANN K-8'!C29+'SCEN. K12 No Phasing+CSP'!C29 -> 0 | D29: ='DANN K-8'!D29+'SCEN. K12 No Phasing+CSP'!D29 -> 0 | E29: ='DANN K-8'!E29+'SCEN. K12 No Phasing+CSP'!E29 -> 0 | F29: ='DANN K-8'!F29+'SCEN. K12 No Phasing+CSP'!F29 -> 0 | G29: ='DANN K-8'!G29+'SCEN. K12 No Phasing+CSP'!G29 -> 0 | H29: ='DANN K-8'!H29+'SCEN. K12 No Phasing+CSP'!H29 -> 0
A30: Music | B30: ='DANN K-8'!B30+'SCEN. K12 No Phasing+CSP'!B30 -> 0 | C30: ='DANN K-8'!C30+'SCEN. K12 No Phasing+CSP'!C30 -> 0 | D30: ='DANN K-8'!D30+'SCEN. K12 No Phasing+CSP'!D30 -> 0 | E30: ='DANN K-8'!E30+'SCEN. K12 No Phasing+CSP'!E30 -> 0 | F30: ='DANN K-8'!F30+'SCEN. K12 No Phasing+CSP'!F30 -> 0 | G30: ='DANN K-8'!G30+'SCEN. K12 No Phasing+CSP'!G30 -> 0 | H30: ='DANN K-8'!H30+'SCEN. K12 No Phasing+CSP'!H30 -> 0
A31: PE Teacher | B31: ='DANN K-8'!B31+'SCEN. K12 No Phasing+CSP'!B31 -> 0 | C31: ='DANN K-8'!C31+'SCEN. K12 No Phasing+CSP'!C31 -> 0 | D31: ='DANN K-8'!D31+'SCEN. K12 No Phasing+CSP'!D31 -> 0 | E31: ='DANN K-8'!E31+'SCEN. K12 No Phasing+CSP'!E31 -> 0 | F31: ='DANN K-8'!F31+'SCEN. K12 No Phasing+CSP'!F31 -> 0 | G31: ='DANN K-8'!G31+'SCEN. K12 No Phasing+CSP'!G31 -> 0 | H31: ='DANN K-8'!H31+'SCEN. K12 No Phasing+CSP'!H31 -> 0
A32: Technology (STEM) | B32: ='DANN K-8'!B32+'SCEN. K12 No Phasing+CSP'!B32 -> 0 | C32: ='DANN K-8'!C32+'SCEN. K12 No Phasing+CSP'!C32 -> 0 | D32: ='DANN K-8'!D32+'SCEN. K12 No Phasing+CSP'!D32 -> 0 | E32: ='DANN K-8'!E32+'SCEN. K12 No Phasing+CSP'!E32 -> 0 | F32: ='DANN K-8'!F32+'SCEN. K12 No Phasing+CSP'!F32 -> 0 | G32: ='DANN K-8'!G32+'SCEN. K12 No Phasing+CSP'!G32 -> 0 | H32: ='DANN K-8'!H32+'SCEN. K12 No Phasing+CSP'!H32 -> 0
A33: Spanish / Language | B33: ='DANN K-8'!B33+'SCEN. K12 No Phasing+CSP'!B33 -> 0 | C33: ='DANN K-8'!C33+'SCEN. K12 No Phasing+CSP'!C33 -> 0 | D33: ='DANN K-8'!D33+'SCEN. K12 No Phasing+CSP'!D33 -> 0 | E33: ='DANN K-8'!E33+'SCEN. K12 No Phasing+CSP'!E33 -> 0 | F33: ='DANN K-8'!F33+'SCEN. K12 No Phasing+CSP'!F33 -> 0 | G33: ='DANN K-8'!G33+'SCEN. K12 No Phasing+CSP'!G33 -> 0 | H33: ='DANN K-8'!H33+'SCEN. K12 No Phasing+CSP'!H33 -> 0
A34: Additional Elective Teachers | B34: ='DANN K-8'!B34+'SCEN. K12 No Phasing+CSP'!B34 -> 8 | C34: ='DANN K-8'!C34+'SCEN. K12 No Phasing+CSP'!C34 -> 8 | D34: ='DANN K-8'!D34+'SCEN. K12 No Phasing+CSP'!D34 -> 14 | E34: ='DANN K-8'!E34+'SCEN. K12 No Phasing+CSP'!E34 -> 16 | F34: ='DANN K-8'!F34+'SCEN. K12 No Phasing+CSP'!F34 -> 17 | G34: ='DANN K-8'!G34+'SCEN. K12 No Phasing+CSP'!G34 -> 18 | H34: ='DANN K-8'!H34+'SCEN. K12 No Phasing+CSP'!H34 -> 18
A35: Gate Teacher | B35: ='DANN K-8'!B35+'SCEN. K12 No Phasing+CSP'!B35 -> 0 | C35: ='DANN K-8'!C35+'SCEN. K12 No Phasing+CSP'!C35 -> 0 | D35: ='DANN K-8'!D35+'SCEN. K12 No Phasing+CSP'!D35 -> 0 | E35: ='DANN K-8'!E35+'SCEN. K12 No Phasing+CSP'!E35 -> 0 | F35: ='DANN K-8'!F35+'SCEN. K12 No Phasing+CSP'!F35 -> 0 | G35: ='DANN K-8'!G35+'SCEN. K12 No Phasing+CSP'!G35 -> 0 | H35: ='DANN K-8'!H35+'SCEN. K12 No Phasing+CSP'!H35 -> 0
A36: Total Teaching Staff | B36: =SUM(B27:B35) -> 47.5 | C36: =SUM(C27:C35) -> 47.5 | D36: =SUM(D27:D35) -> 89.5 | E36: =SUM(E27:E35) -> 101.5 | F36: =SUM(F27:F35) -> 113.5 | G36: =SUM(G27:G35) -> 117.5 | H36: =SUM(H27:H35) -> 124.5
A38: Admin & Support Staff | B38: =B1 -> 26-27 | C38: =C1 -> 27-28 | D38: =D1 -> 28-29 | E38: =E1 -> 29-30 | F38: =F1 -> 30-31 | G38: =G1 -> 31-32 | H38: =H1 -> 32-33
A39: Principal | B39: ='DANN K-8'!B39+'SCEN. K12 No Phasing+CSP'!B39 -> 1 | C39: ='DANN K-8'!C39+'SCEN. K12 No Phasing+CSP'!C39 -> 1 | D39: ='DANN K-8'!D39+'SCEN. K12 No Phasing+CSP'!D39 -> 2 | E39: ='DANN K-8'!E39+'SCEN. K12 No Phasing+CSP'!E39 -> 2 | F39: ='DANN K-8'!F39+'SCEN. K12 No Phasing+CSP'!F39 -> 2 | G39: ='DANN K-8'!G39+'SCEN. K12 No Phasing+CSP'!G39 -> 2 | H39: ='DANN K-8'!H39+'SCEN. K12 No Phasing+CSP'!H39 -> 2
A40: Assistant Principal | B40: ='DANN K-8'!B40+'SCEN. K12 No Phasing+CSP'!B40 -> 2 | C40: ='DANN K-8'!C40+'SCEN. K12 No Phasing+CSP'!C40 -> 2 | D40: ='DANN K-8'!D40+'SCEN. K12 No Phasing+CSP'!D40 -> 4 | E40: ='DANN K-8'!E40+'SCEN. K12 No Phasing+CSP'!E40 -> 4 | F40: ='DANN K-8'!F40+'SCEN. K12 No Phasing+CSP'!F40 -> 4 | G40: ='DANN K-8'!G40+'SCEN. K12 No Phasing+CSP'!G40 -> 5 | H40: ='DANN K-8'!H40+'SCEN. K12 No Phasing+CSP'!H40 -> 5
A41: Community Involvement/ELL Coordinator | B41: ='DANN K-8'!B41+'SCEN. K12 No Phasing+CSP'!B41 -> 0 | C41: ='DANN K-8'!C41+'SCEN. K12 No Phasing+CSP'!C41 -> 0 | D41: ='DANN K-8'!D41+'SCEN. K12 No Phasing+CSP'!D41 -> 1 | E41: ='DANN K-8'!E41+'SCEN. K12 No Phasing+CSP'!E41 -> 1 | F41: ='DANN K-8'!F41+'SCEN. K12 No Phasing+CSP'!F41 -> 1 | G41: ='DANN K-8'!G41+'SCEN. K12 No Phasing+CSP'!G41 -> 1 | H41: ='DANN K-8'!H41+'SCEN. K12 No Phasing+CSP'!H41 -> 1
A42: Dean | B42: ='DANN K-8'!B42+'SCEN. K12 No Phasing+CSP'!B42 -> 1 | C42: ='DANN K-8'!C42+'SCEN. K12 No Phasing+CSP'!C42 -> 1 | D42: ='DANN K-8'!D42+'SCEN. K12 No Phasing+CSP'!D42 -> 1 | E42: ='DANN K-8'!E42+'SCEN. K12 No Phasing+CSP'!E42 -> 1 | F42: ='DANN K-8'!F42+'SCEN. K12 No Phasing+CSP'!F42 -> 1 | G42: ='DANN K-8'!G42+'SCEN. K12 No Phasing+CSP'!G42 -> 1 | H42: ='DANN K-8'!H42+'SCEN. K12 No Phasing+CSP'!H42 -> 1
A43: Curriculum Coach | B43: ='DANN K-8'!B43+'SCEN. K12 No Phasing+CSP'!B43 -> 1 | C43: ='DANN K-8'!C43+'SCEN. K12 No Phasing+CSP'!C43 -> 1 | D43: ='DANN K-8'!D43+'SCEN. K12 No Phasing+CSP'!D43 -> 2 | E43: ='DANN K-8'!E43+'SCEN. K12 No Phasing+CSP'!E43 -> 2 | F43: ='DANN K-8'!F43+'SCEN. K12 No Phasing+CSP'!F43 -> 3 | G43: ='DANN K-8'!G43+'SCEN. K12 No Phasing+CSP'!G43 -> 3 | H43: ='DANN K-8'!H43+'SCEN. K12 No Phasing+CSP'!H43 -> 3
...
